View In:
ArcGIS JavaScript
ArcGIS Online Map Viewer
ArcGIS Earth
ArcMap
View Footprint In:
ArcGIS Online Map Viewer
Service Description: LiDARDerivatives/DEM2014
Name: LiDARDerivatives/DEM2014
Description:
Single Fused Map Cache: false
Extent:
XMin: 523871.52326801035
YMin: 5446351.9323285315
XMax: 542064.5232680104
YMax: 5458162.9323285315
Spatial Reference: 26910
(26910)
Initial Extent:
XMin: 523871.52326801035
YMin: 5446351.9323285315
XMax: 542064.5232680104
YMax: 5458162.9323285315
Spatial Reference: 26910
(26910)
Full Extent:
XMin: 523871.52326801035
YMin: 5446351.9323285315
XMax: 542064.5232680104
YMax: 5458162.9323285315
Spatial Reference: 26910
(26910)
Pixel Size X: 1.0
Pixel Size Y: 1.0
Band Count: 1
Pixel Type: F32
RasterFunction Infos: {"rasterFunctionInfos": [{
"name": "None",
"description": "",
"help": ""
}]}
Mensuration Capabilities: Basic
Has Histograms: true
Has Colormap: false
Has Multi Dimensions : false
Rendering Rule:
Min Scale: 0
Max Scale: 0
Copyright Text: City of Maple Ridge
Service Data Type: esriImageServiceDataTypeGeneric
Min Values: -0.5929999351501465
Max Values: 657.438232421875
Mean Values: 109.90135014258748
Standard Deviation Values: 122.64179450323238
Object ID Field:
Fields:
None
Default Mosaic Method: Center
Allowed Mosaic Methods:
SortField:
SortValue: null
Mosaic Operator: First
Default Compression Quality: 75
Default Resampling Method: Bilinear
Max Record Count: null
Max Image Height: 4100
Max Image Width: 15000
Max Download Image Count: null
Max Mosaic Image Count: null
Allow Raster Function: true
Allow Copy: null
Allow Analysis: null
Allow Compute TiePoints: false
Supports Statistics: false
Supports Advanced Queries: false
Use StandardizedQueries: true
Raster Type Infos:
Name: Raster Dataset
Description: Supports all ArcGIS Raster Datasets
Help:
Has Raster Attribute Table: false
Edit Fields Info: null
Ownership Based AccessControl For Rasters: null
Child Resources:
Info
Histograms
Key Properties
Legend
Raster Function Infos
Supported Operations:
Export Image
Identify
Measure
Compute Histograms
Compute Statistics Histograms
Get Samples
Compute Class Statistics
Query Boundary
Compute Pixel Location
Validate
Project