View In:
ArcGIS JavaScript
ArcGIS Online Map Viewer
ArcGIS Earth
ArcMap
View Footprint In:
ArcGIS Online Map Viewer
Service Description: In 2016 NHC completed a Floodplain Analysis of the North and South Alouette Rivers for the City of Maple Ridge. Project deliverables include a set of GIS files describing flood depths, flood hazards and flood extents, and related information.
Name: LiDARDerivatives/AlouetteFloodDepth10Year
Description: In 2016 NHC completed a Floodplain Analysis of the North and South Alouette Rivers for the City of Maple Ridge. Project deliverables include a set of GIS files describing flood depths, flood hazards and flood extents, and related information.
Single Fused Map Cache: false
Extent:
XMin: 527940.0000000019
YMin: 5453260.000000002
XMax: 531440.0000000019
YMax: 5455300.000000002
Spatial Reference: 26910
(26910)
Initial Extent:
XMin: 527940.0000000019
YMin: 5453260.000000002
XMax: 531440.0000000019
YMax: 5455300.000000002
Spatial Reference: 26910
(26910)
Full Extent:
XMin: 527940.0000000019
YMin: 5453260.000000002
XMax: 531440.0000000019
YMax: 5455300.000000002
Spatial Reference: 26910
(26910)
Pixel Size X: 2.0
Pixel Size Y: 2.0
Band Count: 1
Pixel Type: F32
RasterFunction Infos: {"rasterFunctionInfos": [{
"name": "None",
"description": "",
"help": ""
}]}
Mensuration Capabilities: Basic
Has Histograms: true
Has Colormap: false
Has Multi Dimensions : false
Rendering Rule:
Min Scale: 0
Max Scale: 0
Copyright Text: Northwest Hydraulic Consultants
Service Data Type: esriImageServiceDataTypeGeneric
Min Values: 3.337860107421875E-6
Max Values: 3.641932487487793
Mean Values: 0.580813892932104
Standard Deviation Values: 0.4358267181877651
Object ID Field:
Fields:
None
Default Mosaic Method: Center
Allowed Mosaic Methods:
SortField:
SortValue: null
Mosaic Operator: First
Default Compression Quality: 75
Default Resampling Method: Bilinear
Max Record Count: null
Max Image Height: 4100
Max Image Width: 15000
Max Download Image Count: null
Max Mosaic Image Count: null
Allow Raster Function: true
Allow Copy: null
Allow Analysis: null
Allow Compute TiePoints: false
Supports Statistics: false
Supports Advanced Queries: false
Use StandardizedQueries: true
Raster Type Infos:
Name: Raster Dataset
Description: Supports all ArcGIS Raster Datasets
Help:
Has Raster Attribute Table: false
Edit Fields Info: null
Ownership Based AccessControl For Rasters: null
Child Resources:
Info
Histograms
Key Properties
Legend
Raster Function Infos
Supported Operations:
Export Image
Identify
Measure
Compute Histograms
Compute Statistics Histograms
Get Samples
Compute Class Statistics
Query Boundary
Compute Pixel Location
Validate
Project