{ "currentVersion": 10.81, "serviceDescription": "
In 2016 <\/SPAN>NHC completed a Floodplain Analysis of the North and South Alouette Rivers for the City of Maple<\/SPAN>Ridge. Project deliverables include a set of GIS files describing flood depths, flood hazards and flood extents, and related information.<\/SPAN><\/P><\/DIV><\/DIV><\/DIV>",
"name": "LiDARDerivatives/AlouetteFloodHazard50Year",
"description": " In 2016 <\/SPAN>NHC completed a Floodplain Analysis of the North and South Alouette Rivers for the City of Maple<\/SPAN>Ridge. Project deliverables include a set of GIS files describing flood depths, flood hazards and flood extents, and related information.<\/SPAN><\/P><\/DIV><\/DIV><\/DIV>",
"extent": {
"xmin": 527940.0000000019,
"ymin": 5453260.000000002,
"xmax": 531440.0000000019,
"ymax": 5455300.000000002,
"spatialReference": {
"wkid": 26910,
"latestWkid": 26910
}
},
"initialExtent": {
"xmin": 527940.0000000019,
"ymin": 5453260.000000002,
"xmax": 531440.0000000019,
"ymax": 5455300.000000002,
"spatialReference": {
"wkid": 26910,
"latestWkid": 26910
}
},
"fullExtent": {
"xmin": 527940.0000000019,
"ymin": 5453260.000000002,
"xmax": 531440.0000000019,
"ymax": 5455300.000000002,
"spatialReference": {
"wkid": 26910,
"latestWkid": 26910
}
},
"pixelSizeX": 2,
"pixelSizeY": 2,
"bandCount": 1,
"pixelType": "F32",
"minPixelSize": 0,
"maxPixelSize": 0,
"copyrightText": "Northwest Hydraulic Consultantsly",
"serviceDataType": "esriImageServiceDataTypeGeneric",
"minValues": [
1.430511474609375E-6
],
"maxValues": [
5.74306583404541
],
"meanValues": [
0.6457048047422804
],
"stdvValues": [
0.5117564737916708
],
"objectIdField": "",
"fields": [],
"capabilities": "Image,Metadata,Mensuration",
"defaultMosaicMethod": "Center",
"allowedMosaicMethods": "",
"sortField": "",
"sortValue": null,
"sortAscending": true,
"mosaicOperator": "First",
"defaultCompressionQuality": 75,
"defaultResamplingMethod": "Bilinear",
"maxImageHeight": 4100,
"maxImageWidth": 15000,
"allowRasterFunction": true,
"rasterFunctionInfos": [
{
"name": "None",
"description": "",
"help": ""
}
],
"rasterTypeInfos": [
{
"name": "Raster Dataset",
"description": "Supports all ArcGIS Raster Datasets",
"help": ""
}
],
"mensurationCapabilities": "Basic",
"hasHistograms": true,
"hasColormap": false,
"hasRasterAttributeTable": false,
"minScale": 0,
"maxScale": 0,
"exportTilesAllowed": false,
"hasMultidimensions": false,
"supportsStatistics": false,
"supportsAdvancedQueries": false,
"editFieldsInfo": null,
"ownershipBasedAccessControlForRasters": null,
"allowComputeTiePoints": false,
"useStandardizedQueries": true,
"advancedQueryCapabilities": {
"useStandardizedQueries": true,
"supportsStatistics": false,
"supportsOrderBy": false,
"supportsDistinct": false,
"supportsPagination": false
},
"spatialReference": {
"wkid": 26910,
"latestWkid": 26910
}
}