{
 "currentVersion": 10.81,
 "serviceDescription": "In 2016 NHC completed a Floodplain Analysis of the North and South Alouette Rivers for the City of Maple Ridge. Project deliverables include a set of GIS files describing flood depths, flood hazards and flood extents, and related information.",
 "name": "LiDARDerivatives/AlouetteFloodDepth200Year",
 "description": "In 2016 NHC completed a Floodplain Analysis of the North and South Alouette Rivers for the City of Maple Ridge. Project deliverables include a set of GIS files describing flood depths, flood hazards and flood extents, and related information.",
 "extent": {
  "xmin": 527940.0000000019,
  "ymin": 5453260.000000002,
  "xmax": 531440.0000000019,
  "ymax": 5455300.000000002,
  "spatialReference": {
   "wkid": 26910,
   "latestWkid": 26910
  }
 },
 "initialExtent": {
  "xmin": 527940.0000000019,
  "ymin": 5453260.000000002,
  "xmax": 531440.0000000019,
  "ymax": 5455300.000000002,
  "spatialReference": {
   "wkid": 26910,
   "latestWkid": 26910
  }
 },
 "fullExtent": {
  "xmin": 527940.0000000019,
  "ymin": 5453260.000000002,
  "xmax": 531440.0000000019,
  "ymax": 5455300.000000002,
  "spatialReference": {
   "wkid": 26910,
   "latestWkid": 26910
  }
 },
 "pixelSizeX": 2,
 "pixelSizeY": 2,
 "bandCount": 1,
 "pixelType": "F32",
 "minPixelSize": 0,
 "maxPixelSize": 0,
 "copyrightText": "Northwest Hydraulic Consultants",
 "serviceDataType": "esriImageServiceDataTypeGeneric",
 "minValues": [
  3.337860107421875E-6
 ],
 "maxValues": [
  3.744473457336426
 ],
 "meanValues": [
  0.7742441082739574
 ],
 "stdvValues": [
  0.5663720241304055
 ],
 "objectIdField": "",
 "fields": [],
 "capabilities": "Mensuration,Image,Metadata",
 "defaultMosaicMethod": "Center",
 "allowedMosaicMethods": "",
 "sortField": "",
 "sortValue": null,
 "sortAscending": true,
 "mosaicOperator": "First",
 "defaultCompressionQuality": 75,
 "defaultResamplingMethod": "Bilinear",
 "maxImageHeight": 4100,
 "maxImageWidth": 15000,
 "allowRasterFunction": true,
 "rasterFunctionInfos": [
  {
   "name": "None",
   "description": "",
   "help": ""
  }
 ],
 "rasterTypeInfos": [
  {
   "name": "Raster Dataset",
   "description": "Supports all ArcGIS Raster Datasets",
   "help": ""
  }
 ],
 "mensurationCapabilities": "Basic",
 "hasHistograms": true,
 "hasColormap": false,
 "hasRasterAttributeTable": false,
 "minScale": 0,
 "maxScale": 0,
 "exportTilesAllowed": false,
 "hasMultidimensions": false,
 "supportsStatistics": false,
 "supportsAdvancedQueries": false,
 "editFieldsInfo": null,
 "ownershipBasedAccessControlForRasters": null,
 "allowComputeTiePoints": false,
 "useStandardizedQueries": true,
 "advancedQueryCapabilities": {
  "useStandardizedQueries": true,
  "supportsStatistics": false,
  "supportsOrderBy": false,
  "supportsDistinct": false,
  "supportsPagination": false
 },
 "spatialReference": {
  "wkid": 26910,
  "latestWkid": 26910
 }
}
