{
 "currentVersion": 10.81,
 "serviceDescription": "This DEM was derived from LiDAR collected in fall 2021 ",
 "name": "3DImagery/Elevation2021",
 "description": "This DEM was derived from LiDAR collected in fall 2021 ",
 "extent": {
  "xmin": 523809.7322771633,
  "ymin": 5446141.942936342,
  "xmax": 541981.7322771633,
  "ymax": 5457907.942936342,
  "spatialReference": {
   "wkid": 26910,
   "latestWkid": 26910
  }
 },
 "initialExtent": {
  "xmin": 523809.7322771633,
  "ymin": 5446141.942936342,
  "xmax": 541981.7322771633,
  "ymax": 5457907.942936342,
  "spatialReference": {
   "wkid": 26910,
   "latestWkid": 26910
  }
 },
 "fullExtent": {
  "xmin": 523809.7322771633,
  "ymin": 5446141.942936342,
  "xmax": 541981.7322771633,
  "ymax": 5457907.942936342,
  "spatialReference": {
   "wkid": 26910,
   "latestWkid": 26910
  }
 },
 "pixelSizeX": 1,
 "pixelSizeY": 1,
 "bandCount": 1,
 "pixelType": "F32",
 "minPixelSize": 0,
 "maxPixelSize": 0,
 "copyrightText": "City of Maple Ridge",
 "serviceDataType": "esriImageServiceDataTypeGeneric",
 "minValues": [
  -4.739999771118164
 ],
 "maxValues": [
  582.8599853515625
 ],
 "meanValues": [
  96.72732170694083
 ],
 "stdvValues": [
  97.54369459886448
 ],
 "objectIdField": "",
 "fields": [],
 "capabilities": "Image,Metadata,Mensuration",
 "defaultMosaicMethod": "Center",
 "allowedMosaicMethods": "",
 "sortField": "",
 "sortValue": null,
 "sortAscending": true,
 "mosaicOperator": "First",
 "defaultCompressionQuality": 75,
 "defaultResamplingMethod": "Bilinear",
 "maxImageHeight": 4100,
 "maxImageWidth": 15000,
 "allowRasterFunction": true,
 "rasterFunctionInfos": [
  {
   "name": "None",
   "description": "",
   "help": ""
  }
 ],
 "rasterTypeInfos": [
  {
   "name": "Raster Dataset",
   "description": "Supports all ArcGIS Raster Datasets",
   "help": ""
  }
 ],
 "mensurationCapabilities": "Basic",
 "hasHistograms": true,
 "hasColormap": false,
 "hasRasterAttributeTable": false,
 "minScale": 0,
 "maxScale": 0,
 "exportTilesAllowed": false,
 "hasMultidimensions": false,
 "supportsStatistics": false,
 "supportsAdvancedQueries": false,
 "editFieldsInfo": null,
 "ownershipBasedAccessControlForRasters": null,
 "allowComputeTiePoints": false,
 "useStandardizedQueries": true,
 "advancedQueryCapabilities": {
  "useStandardizedQueries": true,
  "supportsStatistics": false,
  "supportsOrderBy": false,
  "supportsDistinct": false,
  "supportsPagination": false
 },
 "spatialReference": {
  "wkid": 26910,
  "latestWkid": 26910
 }
}
